BEGIN:VCALENDAR
VERSION:2.0
PRODID:-//hacksw/handcal//NONSGML v1.0//EN
BEGIN:VEVENT
DTSTART:20260521T170000Z
DTEND:20260521T210000Z
LOCATION:Globally
ORGANIZER;CN=Michael Mills - Afterwork MBA - France:MAILTO:mike.mills@gmail.com
SUMMARY:Global MBA Afterwork - - 50 Cities - - #HECMBAEverywhere
DESCRIPTION:2026 is the 10th Anniversary of the MBA Afterworks. We are going to celebrate the strength and vibrancy of the MBA network with another Global Afterwork all around the world. We look forward to seeing...
URL:https://www.hecalumni.fr/fr/group/afterwork-mba-france/2601/calendar/global-mba-afterwork-50-cities-hecmbaeverywhere/2026/05/21/13364
BEGIN:VALARM
TRIGGER:-P0DT1H0M0S
ACTION:DISPLAY
END:VALARM
END:VEVENT
END:VCALENDAR