BEGIN:VCALENDAR
VERSION:2.0
PRODID:-//hacksw/handcal//NONSGML v1.0//EN
BEGIN:VEVENT
DTSTART:20260416T063000Z
DTEND:20260416T083000Z
LOCATION:https://us02web.zoom.us/j/87379254922?pwd=pEk4ZJQxnOpA3Xv9stagDZuMYrn2g6.1
ORGANIZER;CN=Marine Homo:MAILTO:marine.homo@hecalumni.fr
SUMMARY:Atelier en ligne "Réussir sa prise de poste" - 16 avril
DESCRIPTION:Code d'accès du webinar 353396...
URL:https://www.hecalumni.fr/fr/event/atelier-en-ligne-reussir-sa-prise-de-poste-16-avril/2026/04/16/13358
BEGIN:VALARM
TRIGGER:-P0DT1H0M0S
ACTION:DISPLAY
END:VALARM
END:VEVENT
END:VCALENDAR