BEGIN:VCALENDAR
VERSION:2.0
PRODID:-//hacksw/handcal//NONSGML v1.0//EN
BEGIN:VEVENT
DTSTART:20260425T064500Z
DTEND:20260427T150000Z
LOCATION:Yvelines (78)
ORGANIZER;CN=Francois Lignon - Gestion de Crise:MAILTO:lignon_francois@yahoo.fr
SUMMARY:Stage immersif tactique et opérationnel suivant la méthode utilisée pour les équipiers « Gestion de crise » du GIGN + techniques et simulation de négociation de crise (avril 2026)
DESCRIPTION:\nStage immersif tactique et opérationnel suivant la méthode utilisée pour les équipiers « Gestion de crise » du GIGN + techniques et simulation de négociation de crise (avril 2026)\nTactical and...
URL:https://www.hecalumni.fr/fr/group/gestion-de-crise/3019/calendar/stage-immersif-tactique-et-operationnel-suivant-la-methode-utilisee-pour-les-equipiers-gestion-de-crise-du-gign-techniques-et-simulation-de-negociation-de-crise-avril-2026/2026/04/25/13323
BEGIN:VALARM
TRIGGER:-P0DT1H0M0S
ACTION:DISPLAY
END:VALARM
END:VEVENT
END:VCALENDAR