BEGIN:VCALENDAR
VERSION:2.0
PRODID:-//hacksw/handcal//NONSGML v1.0//EN
BEGIN:VEVENT
DTSTART:20260128T073000Z
DTEND:20260128T090000Z
LOCATION:Association HEC Alumni \n9 avenue Franklin Delano Roosevelt \n75008 PARIS
ORGANIZER;CN=Maxime Santos - Hub Marques et Médias - Brands and Media Hub:MAILTO:maxime.santos@hecalumni.fr
SUMMARY:Invitation exceptionnelle : Maxime SAADA, Président du Directoire de CANAL+
DESCRIPTION:Le Club Médias & Entertainment Reçoit  Maxime SAADA    Président du Directoire de CANAL+   sur le thème :« Le nouveau CANAL + »  MERCREDI 28 JANVIER 2026 de 8H30 à 10h00 précises A l’Association...
URL:https://www.hecalumni.fr/fr/group/hub-marques-et-medias-brands-and-media-hub/363/calendar/invitation-exceptionnelle-maxime-saada-president-du-directoire-de-canal/2026/01/28/13310
BEGIN:VALARM
TRIGGER:-P0DT1H0M0S
ACTION:DISPLAY
END:VALARM
END:VEVENT
END:VCALENDAR