BEGIN:VCALENDAR
VERSION:2.0
PRODID:-//hacksw/handcal//NONSGML v1.0//EN
BEGIN:VEVENT
DTSTART:20260119T181500Z
DTEND:20260119T220500Z
LOCATION:HEC Alumni - Alumni House \n9, Rue F-D Roosevelt \n75008 Paris
ORGANIZER;CN=Bertrand Deycard - Développement International - International Development:MAILTO:bertrand.deycard@gmail.com
SUMMARY:Conférence-débat avec Claude Blanchemaison et François d'Aubert, du lundi 19 Janvier 2026
DESCRIPTION:INVITATION\nConférence-débat avec Claude Blanchemaison et François d'Aubert à propos du dernier livre de Claude Blanchemaison, intitulé               "Fragments d’un parcours aventureux - au fil des...
URL:https://www.hecalumni.fr/fr/group/developpement-international-international-development/217/calendar/conference-debat-avec-claude-blanchemaison-et-francois-d-aubert-du-lundi-19-janvier-2026/2026/01/19/13305
BEGIN:VALARM
TRIGGER:-P0DT1H0M0S
ACTION:DISPLAY
END:VALARM
END:VEVENT
END:VCALENDAR