BEGIN:VCALENDAR
VERSION:2.0
PRODID:-//hacksw/handcal//NONSGML v1.0//EN
BEGIN:VEVENT
DTSTART:20260501T170000Z
DTEND:20260503T150000Z
LOCATION:VAL D'ISERE
ORGANIZER;CN=Laurence Rolland - Ski Coupe Association HEC:MAILTO:laurence.rolland@hecalumni.fr
SUMMARY:Week-end SKI Alumni HEC - Du 1er au 3 mai 2026
DESCRIPTION:Rejoignez le Week-end Ski Alumni HEC à Val d’Isère1–3 mai 2026Chers Alumni et Étudiants HEC,Le Ski Club HEC Paris est très heureux de vous donner rendez-vous du 1er au 3 mai 2026 à Val d’Isère pour un...
URL:https://www.hecalumni.fr/fr/group/ski-coupe-association-hec/343/calendar/week-end-ski-alumni-hec-du-1er-au-3-mai-2026/2026/05/01/13286
BEGIN:VALARM
TRIGGER:-P0DT1H0M0S
ACTION:DISPLAY
END:VALARM
END:VEVENT
END:VCALENDAR