BEGIN:VCALENDAR
VERSION:2.0
PRODID:-//hacksw/handcal//NONSGML v1.0//EN
BEGIN:VEVENT
DTSTART:20260114T180000Z
DTEND:20260114T210000Z
LOCATION:HEC ALUMNI
ORGANIZER;CN=Angélique Marlot - Parfum et Beauté - Perfume & Beauty Industry:MAILTO:angelique_marlot@yahoo.fr
SUMMARY:L'Inde, nouvel eldorado de la beauté ?
DESCRIPTION:Cher(e) camarade, Le marché indien de la beauté et des soins personnels qui pèse déjà 1 milliard de dollars, est sur une trajectoire exponentielle, avec des projections atteignant les 4 milliards de...
URL:https://www.hecalumni.fr/fr/group/parfum-et-beaute-perfume-beauty-industry/185/calendar/l-inde-nouvel-eldorado-de-la-beaute/2026/01/14/13269
BEGIN:VALARM
TRIGGER:-P0DT1H0M0S
ACTION:DISPLAY
END:VALARM
END:VEVENT
END:VCALENDAR