BEGIN:VCALENDAR
VERSION:2.0
PRODID:-//hacksw/handcal//NONSGML v1.0//EN
BEGIN:VEVENT
DTSTART:20251215T090000Z
DTEND:20251215T100000Z
LOCATION:Collège de France \n11, Place Marcelin Berthelot \n75005 PARIS
ORGANIZER;CN=Isabelle Dion - SANTE - HEALTH:MAILTO:isabellecdion@orange.fr
SUMMARY:AVEC OU SANS SUBSTANCE : TOUS ET TOUTES ADDICTS ?
DESCRIPTION:En accord avec le Collège de France, vous êtes conviés à assister au cours de Maria Melchior, Professeur titulaire de la Chaire Santé Publique pour l'année 2025-2026, sur le thèmeAVEC OU SANS...
URL:https://www.hecalumni.fr/fr/group/sante-health/187/calendar/avec-ou-sans-substance-tous-et-toutes-addicts/2025/12/15/13218
BEGIN:VALARM
TRIGGER:-P0DT1H0M0S
ACTION:DISPLAY
END:VALARM
END:VEVENT
END:VCALENDAR