BEGIN:VCALENDAR
VERSION:2.0
PRODID:-//hacksw/handcal//NONSGML v1.0//EN
BEGIN:VEVENT
DTSTART:20251219T073000Z
DTEND:20251219T090000Z
LOCATION:HEC Alumni \n9 avenue Franklin Delano Roosevelt \n75008 PARIS
ORGANIZER;CN=Maxime Santos - Hub Marques et Médias - Brands and Media Hub:MAILTO:maxime.santos@hecalumni.fr
SUMMARY:Conférence exceptionnelle : Fabrice BAKHOUCHE, Directeur Général de OUEST-FRANCE.
DESCRIPTION:Le Club Médias & Entertainment\nReçoit\nFabrice BAKHOUCHEDirecteur Général OUEST-FRANCE\nInterviewé par Christine Kerdellant\nsur le thème :«Comment un groupe de Presse régionale a pu transformer son ...
URL:https://www.hecalumni.fr/fr/group/hub-marques-et-medias-brands-and-media-hub/363/calendar/conference-exceptionnelle-fabrice-bakhouche-directeur-general-de-ouest-france/2025/12/19/13205
BEGIN:VALARM
TRIGGER:-P0DT1H0M0S
ACTION:DISPLAY
END:VALARM
END:VEVENT
END:VCALENDAR