BEGIN:VCALENDAR
VERSION:2.0
PRODID:-//hacksw/handcal//NONSGML v1.0//EN
BEGIN:VEVENT
DTSTART:20260117T090000Z
DTEND:20260117T160000Z
LOCATION:Courances (91) \nDomaine de Courances,16 rue du Château \n91490 Courances
ORGANIZER;CN=Sophie SOSAMRITH - Parcs et Jardins - Parks & Gardens:MAILTO:sophie.sosamrith@yahoo.com
SUMMARY:Les jardins de Courances, au delà du château un projet de transmission agricole
DESCRIPTION:Nous organisons, le 17 janvier 2026, une rencontre au domaine de Courances (91) : « les jardins de Courances, au-delà du château, un projet de transmission agricole ».\nRendez-vous à 10h\nVisite, en...
URL:https://www.hecalumni.fr/fr/group/parcs-et-jardins-parks-gardens/2703/calendar/les-jardins-de-courances-au-dela-du-chateau-un-projet-de-transmission-agricole/2026/01/17/13203
BEGIN:VALARM
TRIGGER:-P0DT1H0M0S
ACTION:DISPLAY
END:VALARM
END:VEVENT
END:VCALENDAR