BEGIN:VCALENDAR
VERSION:2.0
PRODID:-//hacksw/handcal//NONSGML v1.0//EN
BEGIN:VEVENT
DTSTART:20251211T150000Z
DTEND:20251211T170000Z
LOCATION:https://us02web.zoom.us/j/82179094560?pwd=CncGzFfKSU5PcTQUwmyxx0vudoWmB5.1
ORGANIZER;CN=Jan Frederik Debets - Angels:MAILTO:jan_debets@hotmail.com
SUMMARY:Évènement de pitch de startups HEC / HEC Startup Pitch Event
DESCRIPTION:Code d'accès du webinar 821 7909 4560 - Code : 621999...
URL:https://www.hecalumni.fr/fr/group/angels/353/calendar/evenement-de-pitch-de-startups-hec-hec-startup-pitch-event/2025/12/11/13188
BEGIN:VALARM
TRIGGER:-P0DT1H0M0S
ACTION:DISPLAY
END:VALARM
END:VEVENT
END:VCALENDAR