BEGIN:VCALENDAR
VERSION:2.0
PRODID:-//hacksw/handcal//NONSGML v1.0//EN
BEGIN:VEVENT
DTSTART:20260120T183000Z
DTEND:20260120T210000Z
LOCATION:Howden Group \n34 avenue Georges V \n75008 Paris
ORGANIZER;CN=François-Xavier Mauron - Banque d'Affaires et Capital investissement - Capital Investment & Merchant Banking:MAILTO:fx.mauron@anderapartners.com
SUMMARY:Assurance M&A : cas pratiques et wine tasting
DESCRIPTION:Le Club Banque d’Affaires & Capital investissement (BACI) et Howden M&A ont le plaisir de vous inviter à un Wine Tasting précédé par deux cas pratiques d’utilisation stratégique de l’assurance M&A. Au...
URL:https://www.hecalumni.fr/fr/group/banque-d-affaires-et-capital-investissement-capital-investment-merchant-banking/3/calendar/assurance-m-a-cas-pratiques-et-wine-tasting/2026/01/20/13173
BEGIN:VALARM
TRIGGER:-P0DT1H0M0S
ACTION:DISPLAY
END:VALARM
END:VEVENT
END:VCALENDAR