BEGIN:VCALENDAR
VERSION:2.0
PRODID:-//hacksw/handcal//NONSGML v1.0//EN
BEGIN:VEVENT
DTSTART:20260610T120000Z
DTEND:20260614T200000Z
LOCATION:Périgord
ORGANIZER;CN=Isabelle Briois - Club HEC Détente:MAILTO:ibriois@yahoo.fr
SUMMARY:Escapade en Périgord
DESCRIPTION:Cet évènement se clotûre au 15/2 mais il reste encore 4 places  donc si vous êtes intéressés  n'hésitez pas à me contacter :ibriois@yahoo.fr\nHEC Détente : 10 au 14 Juin 2026« ESCAPADE en PERIGORD...
URL:https://www.hecalumni.fr/fr/group/club-hec-detente/163/calendar/escapade-en-perigord/2026/06/10/13162
BEGIN:VALARM
TRIGGER:-P0DT1H0M0S
ACTION:DISPLAY
END:VALARM
END:VEVENT
END:VCALENDAR