BEGIN:VCALENDAR
VERSION:2.0
PRODID:-//hacksw/handcal//NONSGML v1.0//EN
BEGIN:VEVENT
DTSTART:20251203T073000Z
DTEND:20251203T090000Z
LOCATION:Association HEC Alumni \n9, Avenue Franklin Delano Roosevelt \n75008 PARIS
ORGANIZER;CN=Eric Viallatoux - Media et Entertainment:MAILTO:eric.viallatoux@hecalumni.fr
SUMMARY:Invitation exceptionnelle : Aurélien BOSC, Président de CULTURESPACES.
DESCRIPTION:\nLe Club Médias & Entertainment, en lien avec le Club Culture,  Reçoit Aurélien BOSCPrésidentCULTURESPACES Interviewé par Christine Kerdellant sur le thème :«Evolution de l’Entertainment et des...
URL:https://www.hecalumni.fr/fr/group/media-et-entertainment/203/calendar/invitation-exceptionnelle-aurelien-bosc-president-de-culturespaces/2025/12/03/13142
BEGIN:VALARM
TRIGGER:-P0DT1H0M0S
ACTION:DISPLAY
END:VALARM
END:VEVENT
END:VCALENDAR