BEGIN:VCALENDAR
VERSION:2.0
PRODID:-//hacksw/handcal//NONSGML v1.0//EN
BEGIN:VEVENT
DTSTART:20251203T180000Z
DTEND:20251203T213000Z
LOCATION:HEC Alumni \n9, Avenue Franklin Delano Roosevelt \n75008 PARIS
ORGANIZER;CN=Cédric Sinarinzi - Droit et Entreprise - Law & Business:MAILTO:cedricsinarinzi@yahoo.fr
SUMMARY:PRIX DU JURISTE HEC 2025
DESCRIPTION:Cher(e)s Camarades,Le Club HEC Alumni Droit et Entreprise a le plaisir de vous inviter à la cérémonie de remise de l'édition 2025 du"PRIX DU JURISTE HEC"sous le parrainage deMonsieur Thomas de...
URL:https://www.hecalumni.fr/fr/group/droit-et-entreprise-law-business/173/calendar/prix-du-juriste-hec-2025/2025/12/03/13126
BEGIN:VALARM
TRIGGER:-P0DT1H0M0S
ACTION:DISPLAY
END:VALARM
END:VEVENT
END:VCALENDAR