BEGIN:VCALENDAR
VERSION:2.0
PRODID:-//hacksw/handcal//NONSGML v1.0//EN
BEGIN:VEVENT
DTSTART:20251128T183000Z
DTEND:20251128T210000Z
LOCATION:Hippodrome de Marcq-en-Baroeul \n137, Boulevard Clémenceau \n59700 Marcq-en-Baroeul
ORGANIZER;CN=Hélène Terrier - Hauts de France:MAILTO:hterrier.pro@gmail.com
SUMMARY:Fête aux Huîtres, le 28 novembre 2025 à 19:30
DESCRIPTION:Bonjour à tous,\nComme chaque année, nous avons le plaisir de vous convier à La Fête aux Huîtres ce vendredi 28 novembre 2025 à partir de 19h30 à l'Hippodrome de Marcq-en-Baroeul.Ce moment sera...
URL:https://www.hecalumni.fr/fr/group/hauts-de-france/67/calendar/fete-aux-huitres-le-28-novembre-2025-a-19-30/2025/11/28/13087
BEGIN:VALARM
TRIGGER:-P0DT1H0M0S
ACTION:DISPLAY
END:VALARM
END:VEVENT
END:VCALENDAR