BEGIN:VCALENDAR
VERSION:2.0
PRODID:-//hacksw/handcal//NONSGML v1.0//EN
BEGIN:VEVENT
DTSTART:20251127T180000Z
DTEND:20251127T200000Z
LOCATION:HEC Alumni \n9, Avenue Franklin Roosevelt \n75008 Paris
ORGANIZER;CN=Marc Kieken - Generation Change:MAILTO:marc.kieken@gmail.com
SUMMARY:Conférence :   « Les nouveaux parcours d’études supérieures pour nos ados:  mise à jour de nos référentiels de parents»
DESCRIPTION:\nLe Club HEC « Generation Change » vous invite à la conférence : « Les nouveaux parcours d’études supérieures pour nos ados: mise à jour de nos référentiels de parents»Le jeudi 27 Novembre 2025 de...
URL:https://www.hecalumni.fr/fr/group/generation-change/475/calendar/conference-les-nouveaux-parcours-d-etudes-superieures-pour-nos-ados-mise-a-jour-de-nos-referentiels-de-parents/2025/11/27/13084
BEGIN:VALARM
TRIGGER:-P0DT1H0M0S
ACTION:DISPLAY
END:VALARM
END:VEVENT
END:VCALENDAR