BEGIN:VCALENDAR
VERSION:2.0
PRODID:-//hacksw/handcal//NONSGML v1.0//EN
BEGIN:VEVENT
DTSTART:20251205T070000Z
DTEND:20251205T090000Z
LOCATION:HEC House \n9 avenue Franklin Roosevelt \n75008 Paris
ORGANIZER;CN=Pascal Masson - Consulting & Coaching:MAILTO:pascal.massonkalewska@gmail.com
SUMMARY:IA & Etudes : entre disruption & réinvention
DESCRIPTION:🧠 IA & Études Marketing : entre disruption et réinventionDans la continuité de notre récent cycle sur l’IA et le futur des métiers du conseil, nous vous proposons une matinée pour comprendre comment...
URL:https://www.hecalumni.fr/fr/group/consulting-coaching/171/calendar/ia-etudes-entre-disruption-reinvention/2025/12/05/13057
BEGIN:VALARM
TRIGGER:-P0DT1H0M0S
ACTION:DISPLAY
END:VALARM
END:VEVENT
END:VCALENDAR