BEGIN:VCALENDAR
VERSION:2.0
PRODID:-//hacksw/handcal//NONSGML v1.0//EN
BEGIN:VEVENT
DTSTART:20251104T173000Z
DTEND:20251104T210000Z
LOCATION:Club HEC Alumni  \n9 avenue Franklin D Roosevelt \n75008 Paris
ORGANIZER;CN=Monica Prieto Langard - Technologies Avancées - Advanced technologies:MAILTO:monica.prieto.langard@gmail.com
SUMMARY:Intelligence Artificielle & Intelligence Economique : convergence ou collision stratégique ?
DESCRIPTION:\nATTENTION : événement complet en présentiel, places disponibles uniquement en ligne\nLe Club HEC Technologies Avancées poursuit son cycle de conférences consacré cette année aux Intelligences...
URL:https://www.hecalumni.fr/fr/group/technologies-avancees-advanced-technologies/367/calendar/intelligence-artificielle-intelligence-economique-convergence-ou-collision-strategique/2025/11/04/13027
BEGIN:VALARM
TRIGGER:-P0DT1H0M0S
ACTION:DISPLAY
END:VALARM
END:VEVENT
END:VCALENDAR