BEGIN:VCALENDAR
VERSION:2.0
PRODID:-//hacksw/handcal//NONSGML v1.0//EN
BEGIN:VEVENT
DTSTART:20251031T111500Z
DTEND:20251031T131500Z
LOCATION:Bistro Quai \nQuai la Pérouse \n06700 SAINT-LAURENT-DU-VAR
ORGANIZER;CN=Thien Lan Weber - Côte d'Azur:MAILTO:thienlan.weber@gmail.com
SUMMARY:Déjeuner mensuel Vendredi 31 Octobre 2025 à St Laurent du Var
DESCRIPTION:☀️ Rejoins-nous pour un moment de convivialité lors du déjeuner mensuel le vendredi 31 OctobreNous passerons commande à 12h30 pour ceux qui doivent reprendre à 14hRestaurant Bistro Quai sur la marina ...
URL:https://www.hecalumni.fr/fr/group/cote-d-azur/53/calendar/dejeuner-mensuel-vendredi-31-octobre-2025-a-st-laurent-du-var/2025/10/31/13023
BEGIN:VALARM
TRIGGER:-P0DT1H0M0S
ACTION:DISPLAY
END:VALARM
END:VEVENT
END:VCALENDAR