BEGIN:VCALENDAR
VERSION:2.0
PRODID:-//hacksw/handcal//NONSGML v1.0//EN
BEGIN:VEVENT
DTSTART:20260317T193000Z
DTEND:20260317T213000Z
LOCATION:La Seine Musicale \n92100 Boulogne-Billancourt
ORGANIZER;CN=Sarah Yarmohammadi - Jazz:MAILTO:syarmollard@gmail.com
SUMMARY:Yaron Herman Emile Parisien Linda May Han Oh Prabhu Edouard #Floating
DESCRIPTION:🎷 Dans le cadre de notre collaboration avec La Seine Musicale (voir ici), le Club HEC Jazz vous invite à une soirée inédite : Yaron Herman, Émile Parisien, Linda May Han Oh et Prabhu Édouard se...
URL:https://www.hecalumni.fr/fr/group/jazz/437/calendar/yaron-herman-emile-parisien-linda-may-han-oh-prabhu-edouard-floating/2026/03/17/13000
BEGIN:VALARM
TRIGGER:-P0DT1H0M0S
ACTION:DISPLAY
END:VALARM
END:VEVENT
END:VCALENDAR