BEGIN:VCALENDAR
VERSION:2.0
PRODID:-//hacksw/handcal//NONSGML v1.0//EN
BEGIN:VEVENT
DTSTART:20260204T193000Z
DTEND:20260204T213000Z
LOCATION:La Seine Musicale \n92100 Boulogne-Billancourt
ORGANIZER;CN=Sarah Yarmohammadi - Jazz:MAILTO:syarmollard@gmail.com
SUMMARY:Erik Truffaz, Antonio Lizana "New Sketches of Spain"
DESCRIPTION:🎷 Dans le cadre de notre collaboration avec La Seine Musicale (voir ici), le Club HEC Jazz vous propose un concert unique : Erik Truffaz rencontre Antonio Lizana pour une relecture contemporaine de...
URL:https://www.hecalumni.fr/fr/group/jazz/437/calendar/erik-truffaz-antonio-lizana-new-sketches-of-spain/2026/02/04/12999
BEGIN:VALARM
TRIGGER:-P0DT1H0M0S
ACTION:DISPLAY
END:VALARM
END:VEVENT
END:VCALENDAR