BEGIN:VCALENDAR
VERSION:2.0
PRODID:-//hacksw/handcal//NONSGML v1.0//EN
BEGIN:VEVENT
DTSTART:20251119T193000Z
DTEND:20251119T213000Z
LOCATION:La Seine Musicale \n92100 Boulogne-Billancourt
ORGANIZER;CN=Sarah Yarmohammadi - Jazz:MAILTO:syarmollard@gmail.com
SUMMARY:Hamilton de Holanda & Gonzalo Rubalcaba
DESCRIPTION:🎹 Dans le cadre de notre collaboration avec La Seine Musicale, le Club HEC Jazz est heureux de vous inviter à une rencontre exceptionnelle entre le pianiste cubain Gonzalo Rubalcaba et le mandoliniste...
URL:https://www.hecalumni.fr/fr/group/jazz/437/calendar/hamilton-de-holanda-gonzalo-rubalcaba/2025/11/19/12998
BEGIN:VALARM
TRIGGER:-P0DT1H0M0S
ACTION:DISPLAY
END:VALARM
END:VEVENT
END:VCALENDAR