BEGIN:VCALENDAR
VERSION:2.0
PRODID:-//hacksw/handcal//NONSGML v1.0//EN
BEGIN:VEVENT
DTSTART:20260403T103000Z
DTEND:20260403T120000Z
LOCATION:https://us02web.zoom.us/j/81361311262?pwd=VIGf2uWaybm8cfIJdIZ82hwnViY7qa.1
ORGANIZER;CN=Marine Homo:MAILTO:marine.homo@hecalumni.fr
SUMMARY:Webinar : « LinkedIn behind the scene » - April 3
DESCRIPTION:Code d'accès du webinar 122616...
URL:https://www.hecalumni.fr/fr/event/webinar-linkedin-behind-the-scene-april-3/2026/04/03/12925
BEGIN:VALARM
TRIGGER:-P0DT1H0M0S
ACTION:DISPLAY
END:VALARM
END:VEVENT
END:VCALENDAR