BEGIN:VCALENDAR
VERSION:2.0
PRODID:-//hacksw/handcal//NONSGML v1.0//EN
BEGIN:VEVENT
DTSTART:20251120T180000Z
DTEND:20251120T203000Z
LOCATION:HEC Alumni \n9 avenue Franklin Roosevelt \n75008 Paris
ORGANIZER;CN=Théodora Plagnard - Finance d'Entreprise - Corporate Finance:MAILTO:theodora.plagnard@gmail.com
SUMMARY:SAVE THE DATE: Actualité de la Finance d'Entreprise - Vernimmen 2026
DESCRIPTION:Chèr(e)s Camarades,\nLe club HEC Finance d'entreprise vous propose un moment de réflexion et d'échanges avec Pascal Quiry (H. 84) et Yann Le Fur (H. 95), auteurs du Vernimmen, l'ouvrage de référence...
URL:https://www.hecalumni.fr/fr/group/finance-d-entreprise-corporate-finance/395/calendar/save-the-date-actualite-de-la-finance-d-entreprise-vernimmen-2026/2025/11/20/12914
BEGIN:VALARM
TRIGGER:-P0DT1H0M0S
ACTION:DISPLAY
END:VALARM
END:VEVENT
END:VCALENDAR