BEGIN:VCALENDAR
VERSION:2.0
PRODID:-//hacksw/handcal//NONSGML v1.0//EN
BEGIN:VEVENT
DTSTART:20161117T180000
DTEND:20161117T220000
LOCATION:Maison de la Chimie \n28 bis, rue saint dominique \n75007 Paris
ORGANIZER;CN=Astrid Veyrat:MAILTO:astrid.veyrat@hecalumni.fr
SUMMARY:HECJF - 100 ans, ça se fête !
DESCRIPTION:\nSi vous n’êtes pas encore cotisant, entrez dans la Communauté pour profiter pleinement de tous les services à prix préférentiel cliquant ici.﻿\nCotiser, c’est aussi un geste de solidarité.\n \nIf...
URL:https://www.hecalumni.fr/fr/event/hecjf-100-ans-ca-se-fete/2016/11/17/1291
BEGIN:VALARM
TRIGGER:-P0DT1H0M0S
ACTION:DISPLAY
END:VALARM
END:VEVENT
END:VCALENDAR