BEGIN:VCALENDAR
VERSION:2.0
PRODID:-//hacksw/handcal//NONSGML v1.0//EN
BEGIN:VEVENT
DTSTART:20251006T170000Z
DTEND:20251006T193000Z
LOCATION:HEC Alumni \n9, Avenue Franklin Delano Roosevelt \n75008 PARIS
ORGANIZER;CN=Jérôme Bouquet - Energie - Energy Industry:MAILTO:jerome-bouquet2@orange.fr
SUMMARY:Energies nouvelles : levier ou frein pour l’industrie française et mondiale ?
DESCRIPTION:Alors que l’industrie française doit doubler sa consommation d’électricité d’ici 2050 pour réussir sa décarbonation et sa réindustrialisation, un défi criant se pose : comment concilier transition...
URL:https://www.hecalumni.fr/fr/group/energie-energy-industry/181/calendar/energies-nouvelles-levier-ou-frein-pour-l-industrie-francaise-et-mondiale/2025/10/06/12892
BEGIN:VALARM
TRIGGER:-P0DT1H0M0S
ACTION:DISPLAY
END:VALARM
END:VEVENT
END:VCALENDAR