BEGIN:VCALENDAR
VERSION:2.0
PRODID:-//hacksw/handcal//NONSGML v1.0//EN
BEGIN:VEVENT
DTSTART:20251003T103000Z
DTEND:20251003T123000Z
LOCATION:Brasserie Bofinger \n5, Rue de la Bastille \n75004 PARIS
ORGANIZER;CN=Denis Boehringer - HEC Grande Ecole 1981:MAILTO:denis.boehringer@wanadoo.fr
SUMMARY:Promo H81 - Déjeuner annuel chez BOFINGER le 03 octobre 2025 à 12h30
DESCRIPTION:Bonjour cher(e) camarade,Notre sympathique déjeuner annuel de la promotion qui se tient traditionnellement le premier vendredi d'octobre se tiendra pour notre 44e anniversaire de promo au même endroit...
URL:https://www.hecalumni.fr/fr/group/hec-grande-ecole-1981/981/calendar/promo-h81-dejeuner-annuel-chez-bofinger-le-03-octobre-2025-a-12h30/2025/10/03/12853
BEGIN:VALARM
TRIGGER:-P0DT1H0M0S
ACTION:DISPLAY
END:VALARM
END:VEVENT
END:VCALENDAR