BEGIN:VCALENDAR
VERSION:2.0
PRODID:-//hacksw/handcal//NONSGML v1.0//EN
BEGIN:VEVENT
DTSTART:20250917T160000Z
DTEND:20250917T200000Z
LOCATION:People Bar \n7, Rue de la Krutenau \n67000 STRASBOURG
ORGANIZER;CN=Marie Delassus - Alsace:MAILTO:delassus.marie@gmail.com
SUMMARY:Plongez dans l’IA et imaginez votre futur assistant personnel
DESCRIPTION:Chers alumni alsaciens et alsaciennes,\nAu nom du CGEA – Club des Grandes Écoles d’Alsace - le Club HEC Alumni Alsace a le plaisir de vous convier à une conférence exclusive sur l’IA suivie par un...
URL:https://www.hecalumni.fr/fr/group/alsace/41/calendar/plongez-dans-l-ia-et-imaginez-votre-futur-assistant-personnel/2025/09/17/12841
BEGIN:VALARM
TRIGGER:-P0DT1H0M0S
ACTION:DISPLAY
END:VALARM
END:VEVENT
END:VCALENDAR