BEGIN:VCALENDAR
VERSION:2.0
PRODID:-//hacksw/handcal//NONSGML v1.0//EN
BEGIN:VEVENT
DTSTART:20250904T210000Z
DTEND:20250904T230000Z
LOCATION:Trois Prime \n5455, Avenue de Gaspé, suite 200 \nH2T3B3 MONTREAL
ORGANIZER;CN=Anne-Valérie Guidollet-Paque - Canada - Québec:MAILTO:guidollet.anne@gmail.com
SUMMARY:5 a 7 HEC Alumni Quebec en presentiel
DESCRIPTION:  5 à 7 de la rentrée des anciens d’HEC Paris\n Jeudi 4 septembre, de 17h à 19h\n Chez Trois Prime, 5455 Av. de Gaspé, suite 200, Montréal, H2T 3B3\n Un 5 à 7 de rentrée, entre anciens HEC, dans une...
URL:https://www.hecalumni.fr/fr/group/canada-quebec/105/calendar/5-a-7-hec-alumni-quebec-en-presentiel/2025/09/04/12832
BEGIN:VALARM
TRIGGER:-P0DT1H0M0S
ACTION:DISPLAY
END:VALARM
END:VEVENT
END:VCALENDAR