BEGIN:VCALENDAR
VERSION:2.0
PRODID:-//hacksw/handcal//NONSGML v1.0//EN
BEGIN:VEVENT
DTSTART:20260603T170000Z
DTEND:20260603T190000Z
LOCATION:HEC Alumni \n9, Avenue Franklin Delano Roosevelt \n75008 PARIS
ORGANIZER;CN=Marc Kieken - Generation Change:MAILTO:marc.kieken@gmail.com
SUMMARY:Conférence « Comment faire face à une situation de dépendance de nos proches ? »
DESCRIPTION:Le Club HEC « Generation Change » t’invite à la conférence « Comment faire face à une situation de dépendance de nos proches ? » « Et comment aider concrètement les aidant(e)s » Le mercredi 3 juin...
URL:https://www.hecalumni.fr/fr/group/generation-change/475/calendar/conference-comment-faire-face-a-une-situation-de-dependance-de-nos-proches/2026/06/03/12745
BEGIN:VALARM
TRIGGER:-P0DT1H0M0S
ACTION:DISPLAY
END:VALARM
END:VEVENT
END:VCALENDAR