BEGIN:VCALENDAR
VERSION:2.0
PRODID:-//hacksw/handcal//NONSGML v1.0//EN
BEGIN:VEVENT
DTSTART:20260401T170000Z
DTEND:20260401T183000Z
LOCATION:HEC Alumni \n9, Avenue Franklin Delano Roosevelt \n75008 PARIS
ORGANIZER;CN=Marc Kieken - Generation Change:MAILTO:marc.kieken@gmail.com
SUMMARY:Les réseaux de développement et d’entraide pour les cadres expérimentés: présentation des Réseaux Daubigny et Oudinot
DESCRIPTION:\nLe Club HEC « Generation Change » t’invite à la conférence \n Les réseaux de développement et d’entraide professionnels pour les cadres expérimentés: Présentation des Réseaux Daubigny et Oudinot\nLe...
URL:https://www.hecalumni.fr/fr/group/generation-change/475/calendar/les-reseaux-de-developpement-et-d-entraide-pour-les-cadres-experimentes-presentation-des-reseaux-daubigny-et-oudinot/2026/04/01/12744
BEGIN:VALARM
TRIGGER:-P0DT1H0M0S
ACTION:DISPLAY
END:VALARM
END:VEVENT
END:VCALENDAR