BEGIN:VCALENDAR
VERSION:2.0
PRODID:-//hacksw/handcal//NONSGML v1.0//EN
BEGIN:VEVENT
DTSTART:20260204T180000Z
DTEND:20260204T200000Z
LOCATION:HEC Alumni \n9, Avenue Franklin Delano Roosevelt \n75008 PARIS
ORGANIZER;CN=Marc Kieken - Generation Change:MAILTO:marc.kieken@gmail.com
SUMMARY:Conférence « Comment aider les aidants » - EVENEMENT REPORTE
DESCRIPTION:Conférence « Comment aider concrètement les aidants » dans les locaux de HEC Alumni - 9, avenue Franklin Roosevelt -75008 Paris + distanciel\nCher(e) camarade,Nous sommes en France environ 11 millions...
URL:https://www.hecalumni.fr/fr/group/generation-change/475/calendar/conference-comment-aider-les-aidants-evenement-reporte/2026/02/04/12743
BEGIN:VALARM
TRIGGER:-P0DT1H0M0S
ACTION:DISPLAY
END:VALARM
END:VEVENT
END:VCALENDAR