BEGIN:VCALENDAR
VERSION:2.0
PRODID:-//hacksw/handcal//NONSGML v1.0//EN
BEGIN:VEVENT
DTSTART:20250705T110000Z
DTEND:20250705T150000Z
LOCATION:Parque Turó \n1, Carrer de Josep Bertrand \n08021 BARCELONA
ORGANIZER;CN=Yasmine Abdelaziz - HEC Alumni Spain - Barcelona chapter:MAILTO:yasmine.m.abdelaziz@gmail.com
SUMMARY:French Grandes Ecoles Alumni Summer Picnic in Barcelona
DESCRIPTION:Invitation to the Grandes Ecoles Alumni Summer Picnic in Barcelona - Family friendly!\nDear Alumni,We are delighted to invite you to the first event co-organized by the ambassadors of various French...
URL:https://www.hecalumni.fr/fr/group/hec-alumni-spain-barcelona-chapter/201/calendar/french-grandes-ecoles-alumni-summer-picnic-in-barcelona/2025/07/05/12709
BEGIN:VALARM
TRIGGER:-P0DT1H0M0S
ACTION:DISPLAY
END:VALARM
END:VEVENT
END:VCALENDAR