BEGIN:VCALENDAR
VERSION:2.0
PRODID:-//hacksw/handcal//NONSGML v1.0//EN
BEGIN:VEVENT
DTSTART:20250625T170000Z
DTEND:20250627T110000Z
LOCATION:HEC Alumni \n9, Avenue Franklin Delano Roosevelt \n75008 Paris
ORGANIZER;CN=Solene Delafond - Droit et Entreprise - Law & Business:MAILTO:solenedelafond@gmail.com
SUMMARY:Lumière sur la carrière de Madame Nolwenn Delaunay, Directrice Juridique de TotalEnergies
DESCRIPTION:Avec la participation de notre invitée :Madame Nolwenn DELAUNAY, Group General Counsel – Directrice Juridique de TotalEnergies Et la modération de :Madame Hélène CHARPENTIER (H.10), Administrateur...
URL:https://www.hecalumni.fr/fr/group/droit-et-entreprise-law-business/173/calendar/lumiere-sur-la-carriere-de-madame-nolwenn-delaunay-directrice-juridique-de-totalenergies/2025/06/25/12698
BEGIN:VALARM
TRIGGER:-P0DT1H0M0S
ACTION:DISPLAY
END:VALARM
END:VEVENT
END:VCALENDAR