BEGIN:VCALENDAR
VERSION:2.0
PRODID:-//hacksw/handcal//NONSGML v1.0//EN
BEGIN:VEVENT
DTSTART:20250612T164500Z
DTEND:20250612T193000Z
LOCATION:HEC Alumni \n9 Avenue Franklin Delano Roosevelt \n75008 Paris
ORGANIZER;CN=Jean-Daniel Pick - Commerce et Distribution - Trading and Retail:MAILTO:jean-daniel@jdpick.com
SUMMARY:Régis Schultz, CEO de JD Sports  « Redynamiser des enseignes de Retail, dans le monde entier » Le jeudi 12 juin - 18h45
DESCRIPTION:Régis Schultz, CEO de JD Sports\n « Redynamiser des enseignes de Retail, dans le monde entier »Jeudi 12 juin, 18H45 à l’Association HEC Alumni Le Club HEC Alumni Distribution vous invite à une soirée ...
URL:https://www.hecalumni.fr/fr/group/commerce-et-distribution-trading-and-retail/177/calendar/regis-schultz-ceo-de-jd-sports-redynamiser-des-enseignes-de-retail-dans-le-monde-entier-le-jeudi-12-juin-18h45/2025/06/12/12686
BEGIN:VALARM
TRIGGER:-P0DT1H0M0S
ACTION:DISPLAY
END:VALARM
END:VEVENT
END:VCALENDAR