BEGIN:VCALENDAR
VERSION:2.0
PRODID:-//hacksw/handcal//NONSGML v1.0//EN
BEGIN:VEVENT
DTSTART:20260505T103000Z
DTEND:20260505T120000Z
LOCATION:
ORGANIZER;CN=Marine Homo:MAILTO:marine.homo@hecalumni.fr
SUMMARY:Webinar "Les 6 étapes clés pour donner un nouveau souffle à sa carrière" - 5 mai
DESCRIPTION:Vous êtes à la croisée des chemins dans votre carrière et vous vous posez des questions pour la suite ? \nQue vous soyez en quête de votre prochain poste, que vous vouliez progresser au sein de votre ...
URL:https://www.hecalumni.fr/fr/event/webinar-les-6-etapes-cles-pour-donner-un-nouveau-souffle-a-sa-carriere-5-mai/2026/05/05/12683
BEGIN:VALARM
TRIGGER:-P0DT1H0M0S
ACTION:DISPLAY
END:VALARM
END:VEVENT
END:VCALENDAR