BEGIN:VCALENDAR
VERSION:2.0
PRODID:-//hacksw/handcal//NONSGML v1.0//EN
BEGIN:VEVENT
DTSTART:20260402T103000Z
DTEND:20260402T120000Z
LOCATION:https://zoom.us/j/9384996837
ORGANIZER;CN=Marine Homo:MAILTO:marine.homo@hecalumni.fr
SUMMARY:Webinar "Shine at your next job interview" - April 2nd
DESCRIPTION:Code d'accès du webinar 388119...
URL:https://www.hecalumni.fr/fr/event/webinar-shine-at-your-next-job-interview-april-2nd/2026/04/02/12682
BEGIN:VALARM
TRIGGER:-P0DT1H0M0S
ACTION:DISPLAY
END:VALARM
END:VEVENT
END:VCALENDAR