BEGIN:VCALENDAR
VERSION:2.0
PRODID:-//hacksw/handcal//NONSGML v1.0//EN
BEGIN:VEVENT
DTSTART:20250626T160000Z
DTEND:20250626T200000Z
LOCATION:Le Golf du Fort \nRte du Fort Uhrich \n67400 Illkirch-Graffenstaden
ORGANIZER;CN=Marie Delassus - Alsace:MAILTO:delassus.marie@gmail.com
SUMMARY:Afterwork golf suivi d'un atelier Burger⛳
DESCRIPTION:Chers alumni alsaciens et alsaciennes,Le Club HEC Alumni Alsace en partenariat avec les alumni ESSEC, ESCP Europe et Sciences-Po Paris a le plaisir de vous convier à un after-work en plein air au golf...
URL:https://www.hecalumni.fr/fr/group/alsace/41/calendar/afterwork-golf-suivi-d-un-atelier-burger/2025/06/26/12658
BEGIN:VALARM
TRIGGER:-P0DT1H0M0S
ACTION:DISPLAY
END:VALARM
END:VEVENT
END:VCALENDAR