BEGIN:VCALENDAR
VERSION:2.0
PRODID:-//hacksw/handcal//NONSGML v1.0//EN
BEGIN:VEVENT
DTSTART:20250605T210000Z
DTEND:20250605T230000Z
LOCATION:SII \n2045 rue Stanley
ORGANIZER;CN=Anne-Valérie Guidollet-Paque - Canada - Québec:MAILTO:guidollet.anne@gmail.com
SUMMARY:Apero 5a7 en presentiel le 5 juin
DESCRIPTION:Jeudi 5 juin, de 17h à 19h, chez notre camarade Thomas Vidalinc (chez SII Canada) au 2045 Rue Stanley suite 1400, Montréal.\nLe metro le plus proche? Peel\nVous pensez venir? Super!\nMais prenez le...
URL:https://www.hecalumni.fr/fr/group/canada-quebec/105/calendar/apero-5a7-en-presentiel-le-5-juin/2025/06/05/12632
BEGIN:VALARM
TRIGGER:-P0DT1H0M0S
ACTION:DISPLAY
END:VALARM
END:VEVENT
END:VCALENDAR