BEGIN:VCALENDAR
VERSION:2.0
PRODID:-//hacksw/handcal//NONSGML v1.0//EN
BEGIN:VEVENT
DTSTART:20250619T070000Z
DTEND:20250619T160000Z
LOCATION:
ORGANIZER;CN=Isabelle Dion - HUB SANTE - HEALTH HUB:MAILTO:isabellecdion@orange.fr
SUMMARY:LE JUMEAU NUMERIQUE EN MEDECINE, DEMAIN OU DES AUJOURD'HUI ?
DESCRIPTION:\nL'Académie Nationale de Médecine convie les membres d'HEC Santé à la journée LE JUMEAU NUMERIQUE EN MEDECINE, DEMAIN OU DES AUJOURD'HUI ? qui se tiendra jeudi 19 juin 2025 de 9h00 à 18h00."...
URL:https://www.hecalumni.fr/fr/group/hub-sante-health-hub/393/calendar/le-jumeau-numerique-en-medecine-demain-ou-des-aujourd-hui/2025/06/19/12613
BEGIN:VALARM
TRIGGER:-P0DT1H0M0S
ACTION:DISPLAY
END:VALARM
END:VEVENT
END:VCALENDAR