BEGIN:VCALENDAR
VERSION:2.0
PRODID:-//hacksw/handcal//NONSGML v1.0//EN
BEGIN:VEVENT
DTSTART:20250603T061500Z
DTEND:20250603T073000Z
LOCATION:Pavillon Vendôme \n7, Place Vendôme \n75001 PARIS
ORGANIZER;CN=Sophie Bonn-Cleret:MAILTO:sophie.bonn-cleret@hecalumni.fr
SUMMARY:Matin HEC autour d'Olivier Blum - Directeur Général de Schneider Electric
DESCRIPTION:Olivier Blum est le Directeur Général de Schneider Electric depuis le 4 novembre 2024. Olivier est membre du comité exécutif depuis 2014. Auparavant, il a dirigé l’activité Gestion de l’Energie sur...
URL:https://www.hecalumni.fr/fr/event/matin-hec-autour-d-olivier-blum-directeur-general-de-schneider-electric/2025/06/03/12575
BEGIN:VALARM
TRIGGER:-P0DT1H0M0S
ACTION:DISPLAY
END:VALARM
END:VEVENT
END:VCALENDAR