BEGIN:VCALENDAR
VERSION:2.0
PRODID:-//hacksw/handcal//NONSGML v1.0//EN
BEGIN:VEVENT
DTSTART:20250612T183000Z
DTEND:20250612T203000Z
LOCATION:Basilique Sainte-Clotilde \n23B, rue Las Cases \n75007 PARIS
ORGANIZER;CN=Laurence Rolland - HEC Grande Ecole 1978:MAILTO:laurence.rolland@hecalumni.fr
SUMMARY:Le Messie - 12 juin à 20h30
DESCRIPTION:Chers tous , \nLe Chœur Philharmonique International, artiste de l’UNESCO pour la paix, sous la direction musicale de Yanis Benabdallah interprètera :\nLe Messiede Georg Friedrich HaendelConcert pour ...
URL:https://www.hecalumni.fr/fr/group/hec-grande-ecole-1978/935/calendar/le-messie-12-juin-a-20h30/2025/06/12/12542
BEGIN:VALARM
TRIGGER:-P0DT1H0M0S
ACTION:DISPLAY
END:VALARM
END:VEVENT
END:VCALENDAR