BEGIN:VCALENDAR
VERSION:2.0
PRODID:-//hacksw/handcal//NONSGML v1.0//EN
BEGIN:VEVENT
DTSTART:20250621T083000Z
DTEND:20250621T153000Z
LOCATION:Les Hortillonnages \n80000 AMIENS
ORGANIZER;CN=Laurence Rolland - Parcs et Jardins - Parks & Gardens:MAILTO:laurence.rolland@hecalumni.fr
SUMMARY:Journée à Amiens - 21 juin 2025
DESCRIPTION:DATE LIMITE D'INSCRIPTION : 14 JUIN 2025
URL:https://www.hecalumni.fr/fr/group/parcs-et-jardins-parks-gardens/2703/calendar/journee-a-amiens-21-juin-2025/2025/06/21/12517
BEGIN:VALARM
TRIGGER:-P0DT1H0M0S
ACTION:DISPLAY
END:VALARM
END:VEVENT
END:VCALENDAR