BEGIN:VCALENDAR
VERSION:2.0
PRODID:-//hacksw/handcal//NONSGML v1.0//EN
BEGIN:VEVENT
DTSTART:20250521T163000Z
DTEND:20250521T200000Z
LOCATION:Club HEC Alumni  \n9, Avenue Franklin Delano Roosevelt \n75008 PARIS
ORGANIZER;CN=Monica Prieto Langard - Technologies Avancées - Advanced technologies:MAILTO:monica.prieto.langard@gmail.com
SUMMARY:SAVE THE DATE ! Le casse-tête énergétique et souverainiste des IA
DESCRIPTION:Le Club HEC Technologies Avancées poursuit son cycle de conférences consacré cette année aux Intelligences Artificielles et sera ravi d'accueillir les membres d'HEC Santé et d'HEC Transition à...
URL:https://www.hecalumni.fr/fr/group/technologies-avancees-advanced-technologies/367/calendar/save-the-date-le-casse-tete-energetique-et-souverainiste-des-ia/2025/05/21/12515
BEGIN:VALARM
TRIGGER:-P0DT1H0M0S
ACTION:DISPLAY
END:VALARM
END:VEVENT
END:VCALENDAR