BEGIN:VCALENDAR
VERSION:2.0
PRODID:-//hacksw/handcal//NONSGML v1.0//EN
BEGIN:VEVENT
DTSTART:20250506T163000Z
DTEND:20250506T180000Z
LOCATION:
ORGANIZER;CN=Isabelle Dion - HUB SANTE - HEALTH HUB:MAILTO:isabellecdion@orange.fr
SUMMARY:CAREERS IN HEALTH | MBA STUDENTS and YOUNG ALUMNI
DESCRIPTION:\nSave the date!This ninth edition of this interactive career event will take place on Zoom on May 6, 2025 at 18:30. It is open to MBA Students and Young Alumni: all are welcome!This event is...
URL:https://www.hecalumni.fr/fr/group/hub-sante-health-hub/393/calendar/careers-in-health-mba-students-and-young-alumni/2025/05/06/12439
BEGIN:VALARM
TRIGGER:-P0DT1H0M0S
ACTION:DISPLAY
END:VALARM
END:VEVENT
END:VCALENDAR