BEGIN:VCALENDAR
VERSION:2.0
PRODID:-//hacksw/handcal//NONSGML v1.0//EN
BEGIN:VEVENT
DTSTART:20250416T063000Z
DTEND:20250416T080000Z
LOCATION:HEC Alumni  \n9, Avenue Franklin Delano Roosevelt \n75008 PARIS
ORGANIZER;CN=Bülent Efe - Aérospatial Défense et Sécurité - Aerospace Defense & Security:MAILTO:bulentkaanefe@gmail.com
SUMMARY:Rencontre exceptionnelle avec le Club des directeurs de sécurité des entreprises (CDSE)
DESCRIPTION:Chers camarades, Nous vous convions à un moment privilégié avec le Club des directeurs de sécurité des entreprises.\n Le CDSE fédère les directions de la sécurité et de la sûreté de près de 150...
URL:https://www.hecalumni.fr/fr/group/aerospatial-defense-et-securite-aerospace-defense-security/369/calendar/rencontre-exceptionnelle-avec-le-club-des-directeurs-de-securite-des-entreprises-cdse/2025/04/16/12436
BEGIN:VALARM
TRIGGER:-P0DT1H0M0S
ACTION:DISPLAY
END:VALARM
END:VEVENT
END:VCALENDAR