BEGIN:VCALENDAR
VERSION:2.0
PRODID:-//hacksw/handcal//NONSGML v1.0//EN
BEGIN:VEVENT
DTSTART:20250617T163000Z
DTEND:20250617T203000Z
LOCATION:Restaurant ODORICO \n2, Place de Lorraine \n49100 ANGERS
ORGANIZER;CN=Anne Sophie Lacarelle-Gasse - Pays de la Loire:MAILTO:alacarelle@yahoo.fr
SUMMARY:AFTERWORK / DINER HEC Alumni à ANGERS
DESCRIPTION:Chers HEC des Pays de Loire\nDans le cadre d'une initiative conjointe HEC Détente - HEC Pays de Loire, nous vous proposons de participer à une série de rencontres à Angers / Saumur / Fontevraud...
URL:https://www.hecalumni.fr/fr/group/pays-de-la-loire/71/calendar/afterwork-diner-hec-alumni-a-angers/2025/06/17/12405
BEGIN:VALARM
TRIGGER:-P0DT1H0M0S
ACTION:DISPLAY
END:VALARM
END:VEVENT
END:VCALENDAR