BEGIN:VCALENDAR
VERSION:2.0
PRODID:-//hacksw/handcal//NONSGML v1.0//EN
BEGIN:VEVENT
DTSTART:20250619T123000Z
DTEND:20250619T140000Z
LOCATION:Abbaye de FONTEVRAUD \n1, Rue du Logis Bourbon \n49590 FONTEVRAUD-L'ABBAYE
ORGANIZER;CN=Anne Sophie Lacarelle-Gasse - Pays de la Loire:MAILTO:alacarelle@yahoo.fr
SUMMARY:Visite de l'Abbaye de Fontevraud
DESCRIPTION:Chers HEC des Pays de Loire et Régions voisines\nDans le cadre d'une initiative conjointe HEC Détente - HEC Pays de Loire, nous vous proposons de participer à une série de rencontres à Angers / Saumur...
URL:https://www.hecalumni.fr/fr/group/pays-de-la-loire/71/calendar/visite-de-l-abbaye-de-fontevraud/2025/06/19/12404
BEGIN:VALARM
TRIGGER:-P0DT1H0M0S
ACTION:DISPLAY
END:VALARM
END:VEVENT
END:VCALENDAR