BEGIN:VCALENDAR
VERSION:2.0
PRODID:-//hacksw/handcal//NONSGML v1.0//EN
BEGIN:VEVENT
DTSTART:20260311T070000Z
DTEND:20260321T200000Z
LOCATION:Egypte
ORGANIZER;CN=Christian Rouy - Club HEC Détente:MAILTO:rouy.christian@orange.fr
SUMMARY:Club HEC Détente : Voyage "Le Caire et croisière sur le Nil" du 11 au 21 mars 2026
DESCRIPTION:Le Caire et croisière sur le Nil à bord du RV STAR OF LUXOR bateau 5 ancres  du 11 au 21 mars 2026Découvrez les trésors cachés du Caire, la capitale égyptienne. De la citadelle au grand bazar, visitez...
URL:https://www.hecalumni.fr/fr/group/club-hec-detente/163/calendar/club-hec-detente-voyage-le-caire-et-croisiere-sur-le-nil-du-11-au-21-mars-2026/2026/03/11/12368
BEGIN:VALARM
TRIGGER:-P0DT1H0M0S
ACTION:DISPLAY
END:VALARM
END:VEVENT
END:VCALENDAR